BEGIN:VCALENDAR
VERSION:2.0
PRODID:SchoolNow
CALSCALE:GREGORIAN
BEGIN:VEVENT
UID:7e7a5604-39b2-11f1-9b37-0a58a9feac02
DTSTAMP:20260416T163701Z
SUMMARY:Mater Dei Choir Night at the Phillies
URL;VALUE=URI:https://www.materdeicatholic.com/calendar/8998222/mater-dei-c
 hoir-night-at-the-phillies
DTSTART;VALUE=DATE:20260507
DTEND;VALUE=DATE:20260508
END:VEVENT
END:VCALENDAR
