BEGIN:VCALENDAR
VERSION:2.0
PRODID:SchoolNow
CALSCALE:GREGORIAN
BEGIN:VEVENT
UID:5015980a-39b2-11f1-9a69-0affe2074dff
DTSTAMP:20260416T163543Z
SUMMARY:Kindergarten Carnival
URL;VALUE=URI:https://www.materdeicatholic.com/calendar/8998221/kindergarte
 n-carnival
DTSTART:20260501T213000Z
DTEND:20260501T233000Z
END:VEVENT
END:VCALENDAR
