BEGIN:VCALENDAR
VERSION:2.0
PRODID:SchoolNow
CALSCALE:GREGORIAN
BEGIN:VEVENT
UID:0a8d431e-39b2-11f1-8160-0a58a9feac02
DTSTAMP:20260416T163346Z
SUMMARY:Freddy's Dine and Donate
URL;VALUE=URI:https://www.materdeicatholic.com/calendar/8998220/freddys-din
 e-and-donate
DTSTART:20260422T200000Z
DTEND:20260423T000000Z
END:VEVENT
END:VCALENDAR
