BEGIN:VCALENDAR
VERSION:2.0
PRODID:SchoolNow
CALSCALE:GREGORIAN
BEGIN:VEVENT
UID:fd2b99ac-207d-11f1-8fc9-0a58a9feac02
DTSTAMP:20260315T144811Z
SUMMARY:Margaritas Dine and Donate
URL;VALUE=URI:https://www.materdeicatholic.com/calendar/8919862/margaritas-
 dine-and-donate
DTSTART:20260326T150000Z
DTEND:20260327T030000Z
ATTACH;FILENAME=3-26-26 Mater Dei pdf.pdf;FMTTYPE=application/pdf:https://c
 ampussuite-storage.s3.amazonaws.com/prod/1558557/ecb9f00c-697c-11e8-a56f-0
 a296832838c/3079874/f745208a-207d-11f1-8c09-0254cadce3eb/file/3-26-26 Mate
 r Dei pdf.pdf
END:VEVENT
END:VCALENDAR
