BEGIN:VCALENDAR
VERSION:2.0
PRODID:SchoolNow
CALSCALE:GREGORIAN
BEGIN:VEVENT
UID:4a99656a-faff-11f0-880f-0a58a9feac02
DTSTAMP:20260126T213802Z
SUMMARY:Shake Shack Dine and Donate
URL;VALUE=URI:https://www.materdeicatholic.com/calendar/8844116/shake-shack
 -dine-and-donate
DTSTART:20260216T153000Z
DTEND:20260217T030000Z
ATTACH;FILENAME=7044-2557-Partner Flyer 2024-PDF Download-Date Sel_O_102292
 2_1092611 (1) (1).pdf;FMTTYPE=application/pdf:https://campussuite-storage.
 s3.amazonaws.com/prod/1558557/ecb9f00c-697c-11e8-a56f-0a296832838c/3064170
 /4095d2ba-faff-11f0-9801-0222e1f31053/file/7044-2557-Partner Flyer 2024-PD
 F Download-Date Sel_O_1022922_1092611 (1) (1).pdf
END:VEVENT
END:VCALENDAR
