BEGIN:VCALENDAR
VERSION:2.0
PRODID:SchoolNow
CALSCALE:GREGORIAN
BEGIN:VEVENT
UID:317f5d2a-dd11-11f0-b2e9-0a58a9feac02
DTSTAMP:20251219T193036Z
SUMMARY:Mystic Pizza Dine and Donate
URL;VALUE=URI:https://www.materdeicatholic.com/calendar/8826430/mystic-pizz
 a-dine-and-donate
DTSTART;VALUE=DATE:20260119
DTEND;VALUE=DATE:20260121
ATTACH;FILENAME=Mystic Pizzeria 126 (1).pdf;FMTTYPE=application/pdf:https:/
 /campussuite-storage.s3.amazonaws.com/prod/1558557/ecb9f00c-697c-11e8-a56f
 -0a296832838c/3054611/29a711ce-dd11-11f0-b531-0affef73b657/file/Mystic Piz
 zeria 126 (1).pdf
END:VEVENT
END:VCALENDAR
