BEGIN:VCALENDAR
VERSION:2.0
PRODID:SchoolNow
CALSCALE:GREGORIAN
BEGIN:VEVENT
UID:dd140a0c-c4af-11f0-b48e-0229348720a9
DTSTAMP:20251118T185325Z
SUMMARY:Color Me Mine Fundraiser
URL;VALUE=URI:https://www.materdeicatholic.com/calendar/8802484/color-me-mi
 ne-fundraiser
DTSTART;VALUE=DATE:20251208
DTEND;VALUE=DATE:20251211
END:VEVENT
END:VCALENDAR
