BEGIN:VCALENDAR
VERSION:2.0
PRODID:SchoolNow
CALSCALE:GREGORIAN
BEGIN:VEVENT
UID:7d7ed99a-9a6c-11f0-87d5-0a58a9feac02
DTSTAMP:20250926T000520Z
SUMMARY:Chipotle Dine and Donate
URL;VALUE=URI:https://www.materdeicatholic.com/calendar/8665145/chipotle-di
 ne-and-donate
DTSTART:20251122T210000Z
DTEND:20251123T010000Z
ATTACH;FILENAME=Chipotle DNO.pdf;FMTTYPE=application/pdf:https://campussuit
 e-storage.s3.amazonaws.com/prod/1558557/ecb9f00c-697c-11e8-a56f-0a29683283
 8c/3013213/7a169b08-9a6c-11f0-ab83-0e84c27ea6fb/file/Chipotle DNO.pdf
END:VEVENT
END:VCALENDAR
