BEGIN:VCALENDAR
VERSION:2.0
PRODID:SchoolNow
CALSCALE:GREGORIAN
BEGIN:VEVENT
UID:cb2e852e-84ea-11f0-866f-022e31aca1f7
DTSTAMP:20250911T131609Z
SUMMARY:Nino's Pizza Dine and Donate
URL;VALUE=URI:https://www.materdeicatholic.com/calendar/8558391/ninos-pizza
 -dine-and-donate
DTSTART:20251007T200000Z
DTEND:20251008T000000Z
ATTACH;FILENAME=Ninos Pizza.pdf;FMTTYPE=application/pdf:https://campussuite
 -storage.s3.amazonaws.com/prod/1558557/ecb9f00c-697c-11e8-a56f-0a296832838
 c/3006010/774e3f2c-8f11-11f0-b38e-0a58a9feac02/file/Ninos Pizza.pdf
END:VEVENT
END:VCALENDAR
