BEGIN:VCALENDAR
VERSION:2.0
PRODID:SchoolNow
CALSCALE:GREGORIAN
BEGIN:VEVENT
UID:e8aa55c4-5f5b-11f0-9c56-0a58a9feac02
DTSTAMP:20250712T200759Z
SUMMARY:11:30 Dismissal
URL;VALUE=URI:https://www.materdeicatholic.com/calendar/8408879/11-30-dismi
 ssal
DTSTART;VALUE=DATE:20260611
DTEND;VALUE=DATE:20260612
END:VEVENT
END:VCALENDAR
