BEGIN:VCALENDAR
VERSION:2.0
PRODID:SchoolNow
CALSCALE:GREGORIAN
BEGIN:VEVENT
UID:da35e1de-5f5b-11f0-8989-0294a2314d23
DTSTAMP:20250712T200735Z
SUMMARY:Closing Mass
LOCATION:St. Stanislaus Church
URL;VALUE=URI:https://www.materdeicatholic.com/calendar/8408878/closing-mas
 s
DTSTART:20260611T133000Z
DTEND:20260611T143000Z
END:VEVENT
END:VCALENDAR
