BEGIN:VCALENDAR
VERSION:2.0
PRODID:SchoolNow
CALSCALE:GREGORIAN
BEGIN:VEVENT
UID:c2e0062c-5f5b-11f0-9624-0a58a9feac02
DTSTAMP:20250712T200656Z
SUMMARY:Report Cards - K-Gr. 8
URL;VALUE=URI:https://www.materdeicatholic.com/calendar/8408877/report-card
 s-k-gr-8
DTSTART;VALUE=DATE:20260611
DTEND;VALUE=DATE:20260612
END:VEVENT
END:VCALENDAR
