BEGIN:VCALENDAR
VERSION:2.0
PRODID:SchoolNow
CALSCALE:GREGORIAN
BEGIN:VEVENT
UID:a382b6b2-5f5b-11f0-b8af-0a58a9feac02
DTSTAMP:20250712T200603Z
SUMMARY:Last Day of School - Gr. 1-7
URL;VALUE=URI:https://www.materdeicatholic.com/calendar/8408876/last-day-of
 -school-gr-1-7
DTSTART;VALUE=DATE:20260611
DTEND;VALUE=DATE:20260612
END:VEVENT
END:VCALENDAR
