BEGIN:VCALENDAR
VERSION:2.0
PRODID:SchoolNow
CALSCALE:GREGORIAN
BEGIN:VEVENT
UID:8ba577e6-5f5b-11f0-867c-0a58a9feac02
DTSTAMP:20250712T200523Z
SUMMARY:Third Trimester Ends
URL;VALUE=URI:https://www.materdeicatholic.com/calendar/8408875/third-trime
 ster-ends
DTSTART;VALUE=DATE:20260611
DTEND;VALUE=DATE:20260612
END:VEVENT
END:VCALENDAR
