BEGIN:VCALENDAR
VERSION:2.0
PRODID:SchoolNow
CALSCALE:GREGORIAN
BEGIN:VEVENT
UID:7512e054-5f5b-11f0-a57b-0a58a9feac02
DTSTAMP:20250712T200445Z
SUMMARY:11:30 Dismissal - Gr. 1-7
URL;VALUE=URI:https://www.materdeicatholic.com/calendar/8408874/11-30-dismi
 ssal-gr-1-7
DTSTART;VALUE=DATE:20260610
DTEND;VALUE=DATE:20260611
END:VEVENT
END:VCALENDAR
