BEGIN:VCALENDAR
VERSION:2.0
PRODID:SchoolNow
CALSCALE:GREGORIAN
BEGIN:VEVENT
UID:62998586-5f5b-11f0-b181-0a58a9feac02
DTSTAMP:20250712T200414Z
SUMMARY:Field Day - Gr. 1-7
URL;VALUE=URI:https://www.materdeicatholic.com/calendar/8408873/field-day-g
 r-1-7
DTSTART;VALUE=DATE:20260610
DTEND;VALUE=DATE:20260611
END:VEVENT
END:VCALENDAR
