BEGIN:VCALENDAR
VERSION:2.0
PRODID:SchoolNow
CALSCALE:GREGORIAN
BEGIN:VEVENT
UID:3c6b7446-5f5b-11f0-99bb-0a58a9feac02
DTSTAMP:20250712T200310Z
SUMMARY:Kindergarten End of Year Celebration
LOCATION:St. Stanislaus Church
URL;VALUE=URI:https://www.materdeicatholic.com/calendar/8408871/kindergarte
 n-end-of-year-celebration
DTSTART:20260609T133000Z
DTEND:20260609T143000Z
END:VEVENT
END:VCALENDAR
