BEGIN:VCALENDAR
VERSION:2.0
PRODID:SchoolNow
CALSCALE:GREGORIAN
BEGIN:VEVENT
UID:1d414b18-5f5b-11f0-bcfe-0a58a9feac02
DTSTAMP:20250712T200218Z
SUMMARY:Full Day of School - Gr. K-7
URL;VALUE=URI:https://www.materdeicatholic.com/calendar/8408870/full-day-of
 -school-gr-k-7
DTSTART;VALUE=DATE:20260608
DTEND;VALUE=DATE:20260609
END:VEVENT
END:VCALENDAR
