BEGIN:VCALENDAR
VERSION:2.0
PRODID:SchoolNow
CALSCALE:GREGORIAN
BEGIN:VEVENT
UID:03ed2d08-5f5b-11f0-8e98-0a58a9feac02
DTSTAMP:20250818T133831Z
SUMMARY:PreK 4 End of Year Celebration
URL;VALUE=URI:https://www.materdeicatholic.com/calendar/8408869/prek-4-end-
 of-year-celebration
DTSTART:20260608T143000Z
DTEND:20260608T151500Z
END:VEVENT
END:VCALENDAR
