BEGIN:VCALENDAR
VERSION:2.0
PRODID:SchoolNow
CALSCALE:GREGORIAN
BEGIN:VEVENT
UID:e3b79c6c-5f5a-11f0-8aa3-0210512b0f9d
DTSTAMP:20250712T200042Z
SUMMARY:PreK 3 End of Year Celebration
URL;VALUE=URI:https://www.materdeicatholic.com/calendar/8408868/prek-3-end-
 of-year-celebration
DTSTART:20260608T133000Z
DTEND:20260608T141500Z
END:VEVENT
END:VCALENDAR
