BEGIN:VCALENDAR
VERSION:2.0
PRODID:SchoolNow
CALSCALE:GREGORIAN
BEGIN:VEVENT
UID:b9a28a90-5f5a-11f0-b9d9-0afffe51417b
DTSTAMP:20250712T195931Z
SUMMARY:Eighth Grade Graduation Mass
LOCATION:St. Maria Goretti\, followed by Dance at St. Rose of Lima
URL;VALUE=URI:https://www.materdeicatholic.com/calendar/8408867/eighth-grad
 e-graduation-mass
DTSTART:20260607T203000Z
DTEND:20260607T213000Z
END:VEVENT
END:VCALENDAR
