BEGIN:VCALENDAR
VERSION:2.0
PRODID:SchoolNow
CALSCALE:GREGORIAN
BEGIN:VEVENT
UID:876c3af8-5f5a-11f0-828c-0afffe51417b
DTSTAMP:20250712T195807Z
SUMMARY:Gr. 8 No School
URL;VALUE=URI:https://www.materdeicatholic.com/calendar/8408866/gr-8-no-sch
 ool
DTSTART;VALUE=DATE:20260605
DTEND;VALUE=DATE:20260606
END:VEVENT
END:VCALENDAR
