BEGIN:VCALENDAR
VERSION:2.0
PRODID:SchoolNow
CALSCALE:GREGORIAN
BEGIN:VEVENT
UID:4efb54a6-5f5a-11f0-aac2-02b0890989d9
DTSTAMP:20250712T195734Z
SUMMARY:11:30 Early Dismissal - Gr. K-7
URL;VALUE=URI:https://www.materdeicatholic.com/calendar/8408865/11-30-early
 -dismissal-gr-k-7
DTSTART;VALUE=DATE:20260605
DTEND;VALUE=DATE:20260606
END:VEVENT
END:VCALENDAR
