BEGIN:VCALENDAR
VERSION:2.0
PRODID:SchoolNow
CALSCALE:GREGORIAN
BEGIN:VEVENT
UID:3b3531c6-5f5a-11f0-aa63-0afffe51417b
DTSTAMP:20250712T195559Z
SUMMARY:11:00 PreK Dismissal
URL;VALUE=URI:https://www.materdeicatholic.com/calendar/8408864/11-00-prek-
 dismissal
DTSTART;VALUE=DATE:20260605
DTEND;VALUE=DATE:20260606
END:VEVENT
END:VCALENDAR
