BEGIN:VCALENDAR
VERSION:2.0
PRODID:SchoolNow
CALSCALE:GREGORIAN
BEGIN:VEVENT
UID:1e69dd58-5f5a-11f0-bc79-0a58a9feac02
DTSTAMP:20250712T195511Z
SUMMARY:Gr. 8 Retreat Day and Picnic
URL;VALUE=URI:https://www.materdeicatholic.com/calendar/8408863/gr-8-retrea
 t-day-and-picnic
DTSTART;VALUE=DATE:20260604
DTEND;VALUE=DATE:20260605
END:VEVENT
END:VCALENDAR
