BEGIN:VCALENDAR
VERSION:2.0
PRODID:SchoolNow
CALSCALE:GREGORIAN
BEGIN:VEVENT
UID:f7f6c582-5f59-11f0-a7f5-0a58a9feac02
DTSTAMP:20250712T195406Z
SUMMARY:Final Assessments - Gr. 1-8
URL;VALUE=URI:https://www.materdeicatholic.com/calendar/8408862/final-asses
 sments-gr-1-8
DTSTART;VALUE=DATE:20260601
DTEND;VALUE=DATE:20260606
END:VEVENT
END:VCALENDAR
