BEGIN:VCALENDAR
VERSION:2.0
PRODID:SchoolNow
CALSCALE:GREGORIAN
BEGIN:VEVENT
UID:d1bfb2ca-5f59-11f0-a338-0eda56c5edcb
DTSTAMP:20250712T195302Z
SUMMARY:Classes Resume
URL;VALUE=URI:https://www.materdeicatholic.com/calendar/8408860/classes-res
 ume
DTSTART;VALUE=DATE:20260526
DTEND;VALUE=DATE:20260527
END:VEVENT
END:VCALENDAR
