BEGIN:VCALENDAR
VERSION:2.0
PRODID:SchoolNow
CALSCALE:GREGORIAN
BEGIN:VEVENT
UID:becabc64-5f59-11f0-8a12-0eda56c5edcb
DTSTAMP:20250712T195230Z
SUMMARY:No School - Memorial Day
URL;VALUE=URI:https://www.materdeicatholic.com/calendar/8408859/no-school-m
 emorial-day
DTSTART;VALUE=DATE:20260525
DTEND;VALUE=DATE:20260526
END:VEVENT
END:VCALENDAR
