BEGIN:VCALENDAR
VERSION:2.0
PRODID:SchoolNow
CALSCALE:GREGORIAN
BEGIN:VEVENT
UID:aeef3856-5f59-11f0-aa1c-0e59f692aa7b
DTSTAMP:20250712T195204Z
SUMMARY:No School
URL;VALUE=URI:https://www.materdeicatholic.com/calendar/8408858/no-school
DTSTART;VALUE=DATE:20260522
DTEND;VALUE=DATE:20260523
END:VEVENT
END:VCALENDAR
