BEGIN:VCALENDAR
VERSION:2.0
PRODID:SchoolNow
CALSCALE:GREGORIAN
BEGIN:VEVENT
UID:9f8dc814-5f59-11f0-8348-02b0890989d9
DTSTAMP:20250712T195138Z
SUMMARY:Alumni Induction for Gr. 8
URL;VALUE=URI:https://www.materdeicatholic.com/calendar/8408857/alumni-indu
 ction-for-gr-8
DTSTART:20260521T180000Z
DTEND:20260521T190000Z
END:VEVENT
END:VCALENDAR
