BEGIN:VCALENDAR
VERSION:2.0
PRODID:SchoolNow
CALSCALE:GREGORIAN
BEGIN:VEVENT
UID:72a55330-5f59-11f0-9e70-0a58a9feac02
DTSTAMP:20250822T134918Z
SUMMARY:PreK 4 and Kindergarten New Student Welcome Night
URL;VALUE=URI:https://www.materdeicatholic.com/calendar/8408855/prek-4-new-
 student-welcome-night
DTSTART:20260518T220000Z
DTEND:20260518T224500Z
END:VEVENT
END:VCALENDAR
