BEGIN:VCALENDAR
VERSION:2.0
PRODID:SchoolNow
CALSCALE:GREGORIAN
BEGIN:VEVENT
UID:5dea710a-5f59-11f0-a15f-0a58a9feac02
DTSTAMP:20250822T134953Z
SUMMARY:PreK 3 New Student Welcome Night
URL;VALUE=URI:https://www.materdeicatholic.com/calendar/8408854/prek-3-new-
 student-welcome-night
DTSTART:20260518T210000Z
DTEND:20260518T214500Z
END:VEVENT
END:VCALENDAR
