BEGIN:VCALENDAR
VERSION:2.0
PRODID:SchoolNow
CALSCALE:GREGORIAN
BEGIN:VEVENT
UID:11ae68be-5f59-11f0-b277-0a58a9feac02
DTSTAMP:20250712T194740Z
SUMMARY:Ascension Thursday Mass
LOCATION:St. Stanislaus Church
URL;VALUE=URI:https://www.materdeicatholic.com/calendar/8408852/ascension-t
 hursday-mass
DTSTART:20260514T130000Z
DTEND:20260514T140000Z
END:VEVENT
END:VCALENDAR
