BEGIN:VCALENDAR
VERSION:2.0
PRODID:SchoolNow
CALSCALE:GREGORIAN
BEGIN:VEVENT
UID:fee79ab6-5f58-11f0-81c1-02b0890989d9
DTSTAMP:20250712T194708Z
SUMMARY:Ascension Thursday - Full Day of School
URL;VALUE=URI:https://www.materdeicatholic.com/calendar/8408851/ascension-t
 hursday-full-day-of-school
DTSTART;VALUE=DATE:20260514
DTEND;VALUE=DATE:20260515
END:VEVENT
END:VCALENDAR
