BEGIN:VCALENDAR
VERSION:2.0
PRODID:SchoolNow
CALSCALE:GREGORIAN
BEGIN:VEVENT
UID:e5e7522c-5f58-11f0-931d-0a58a9feac02
DTSTAMP:20260330T144146Z
SUMMARY:May Procession Prayer Service
LOCATION:St. Stanislaus Church
URL;VALUE=URI:https://www.materdeicatholic.com/calendar/8408850/may-process
 ion-mass
DTSTART:20260513T173000Z
DTEND:20260513T190000Z
END:VEVENT
END:VCALENDAR
