BEGIN:VCALENDAR
VERSION:2.0
PRODID:SchoolNow
CALSCALE:GREGORIAN
BEGIN:VEVENT
UID:cd8dc3be-5f58-11f0-a305-0a58a9feac02
DTSTAMP:20250712T194545Z
SUMMARY:Home & School Final General Meeting and Elections
LOCATION:Mater Dei Gym
URL;VALUE=URI:https://www.materdeicatholic.com/calendar/8408849/home-school
 -final-general-meeting-and-elections
DTSTART:20260512T223000Z
DTEND:20260513T000000Z
END:VEVENT
END:VCALENDAR
