BEGIN:VCALENDAR
VERSION:2.0
PRODID:SchoolNow
CALSCALE:GREGORIAN
BEGIN:VEVENT
UID:a3cfa1a0-5f58-11f0-812f-0a58a9feac02
DTSTAMP:20260108T151039Z
SUMMARY:First Communion - St. Rose of Lima
URL;VALUE=URI:https://www.materdeicatholic.com/calendar/8408848/first-commu
 nion-st-rose-of-lima
DTSTART:20260426T153000Z
DTEND:20260426T163000Z
END:VEVENT
END:VCALENDAR
