BEGIN:VCALENDAR
VERSION:2.0
PRODID:SchoolNow
CALSCALE:GREGORIAN
BEGIN:VEVENT
UID:8f5e7b6a-5f58-11f0-ab93-0210512b0f9d
DTSTAMP:20250712T194401Z
SUMMARY:Home & School Food Day
URL;VALUE=URI:https://www.materdeicatholic.com/calendar/8408847/home-school
 -food-day
DTSTART;VALUE=DATE:20260508
DTEND;VALUE=DATE:20260509
END:VEVENT
END:VCALENDAR
