BEGIN:VCALENDAR
VERSION:2.0
PRODID:SchoolNow
CALSCALE:GREGORIAN
BEGIN:VEVENT
UID:829da1da-5f58-11f0-948b-02b0890989d9
DTSTAMP:20260416T163422Z
SUMMARY:Muffins With Mom (M-Z)
URL;VALUE=URI:https://www.materdeicatholic.com/calendar/8408846/muffins-wit
 h-mom-m-z
DTSTART:20260429T113000Z
DTEND:20260429T123000Z
END:VEVENT
END:VCALENDAR
