BEGIN:VCALENDAR
VERSION:2.0
PRODID:SchoolNow
CALSCALE:GREGORIAN
BEGIN:VEVENT
UID:72a71900-5f58-11f0-98fc-023b860816c7
DTSTAMP:20260416T163408Z
SUMMARY:Muffins With Mom (A-L)
URL;VALUE=URI:https://www.materdeicatholic.com/calendar/8408845/muffins-wit
 h-mom-a-l
DTSTART:20260428T113000Z
DTEND:20260428T123000Z
END:VEVENT
END:VCALENDAR
