BEGIN:VCALENDAR
VERSION:2.0
PRODID:SchoolNow
CALSCALE:GREGORIAN
BEGIN:VEVENT
UID:51259360-5f58-11f0-89c0-0afffe51417b
DTSTAMP:20260330T143910Z
SUMMARY:Spring Concert/Fine Arts Show
URL;VALUE=URI:https://www.materdeicatholic.com/calendar/8408844/spring-conc
 ert-fine-arts-show
DTSTART:20260519T223000Z
DTEND:20260520T000000Z
END:VEVENT
END:VCALENDAR
