BEGIN:VCALENDAR
VERSION:2.0
PRODID:SchoolNow
CALSCALE:GREGORIAN
BEGIN:VEVENT
UID:3614ef76-5f58-11f0-bb8a-0a58a9feac02
DTSTAMP:20250712T194131Z
SUMMARY:First Communion - St. Maria Goretti
URL;VALUE=URI:https://www.materdeicatholic.com/calendar/8408843/first-commu
 nion-st-maria-goretti
DTSTART:20260502T140000Z
DTEND:20260502T150000Z
END:VEVENT
END:VCALENDAR
