BEGIN:VCALENDAR
VERSION:2.0
PRODID:SchoolNow
CALSCALE:GREGORIAN
BEGIN:VEVENT
UID:2584122c-5f58-11f0-b46f-0a58a9feac02
DTSTAMP:20250712T194103Z
SUMMARY:First Communion - St. Stanislaus
URL;VALUE=URI:https://www.materdeicatholic.com/calendar/8408842/first-commu
 nion-st-stanislaus
DTSTART:20260502T140000Z
DTEND:20260502T150000Z
END:VEVENT
END:VCALENDAR
