BEGIN:VCALENDAR
VERSION:2.0
PRODID:SchoolNow
CALSCALE:GREGORIAN
BEGIN:VEVENT
UID:f18a4522-5f57-11f0-bfef-0a58a9feac02
DTSTAMP:20250712T193936Z
SUMMARY:Home & School Food Day
URL;VALUE=URI:https://www.materdeicatholic.com/calendar/8408790/home-school
 -food-day
DTSTART;VALUE=DATE:20260501
DTEND;VALUE=DATE:20260502
END:VEVENT
END:VCALENDAR
