BEGIN:VCALENDAR
VERSION:2.0
PRODID:SchoolNow
CALSCALE:GREGORIAN
BEGIN:VEVENT
UID:e6698d74-5f57-11f0-aae1-0a58a9feac02
DTSTAMP:20250712T193918Z
SUMMARY:Progress Reports for 3rd Trimester - Gr. 1-8
URL;VALUE=URI:https://www.materdeicatholic.com/calendar/8408789/progress-re
 ports-for-3rd-trimester-gr-1-8
DTSTART;VALUE=DATE:20260501
DTEND;VALUE=DATE:20260502
END:VEVENT
END:VCALENDAR
