BEGIN:VCALENDAR
VERSION:2.0
PRODID:SchoolNow
CALSCALE:GREGORIAN
BEGIN:VEVENT
UID:c598707e-5f57-11f0-8f6b-0a58a9feac02
DTSTAMP:20250712T193823Z
SUMMARY:NJHS Installation Ceremony
LOCATION:St. Stanislaus Church
URL;VALUE=URI:https://www.materdeicatholic.com/calendar/8408788/njhs-instal
 lation-ceremony
DTSTART:20260501T173000Z
DTEND:20260501T183000Z
END:VEVENT
END:VCALENDAR
