BEGIN:VCALENDAR
VERSION:2.0
PRODID:SchoolNow
CALSCALE:GREGORIAN
BEGIN:VEVENT
UID:aaeb378e-5f57-11f0-8441-02b0890989d9
DTSTAMP:20250712T193738Z
SUMMARY:8th Grade Graduation and Group Pictures
URL;VALUE=URI:https://www.materdeicatholic.com/calendar/8408787/8th-grade-g
 raduation-and-group-pictures
DTSTART;VALUE=DATE:20260427
DTEND;VALUE=DATE:20260428
END:VEVENT
END:VCALENDAR
