BEGIN:VCALENDAR
VERSION:2.0
PRODID:SchoolNow
CALSCALE:GREGORIAN
BEGIN:VEVENT
UID:80688bb0-5f57-11f0-9071-0a58a9feac02
DTSTAMP:20250712T193626Z
SUMMARY:Reading Olympics
URL;VALUE=URI:https://www.materdeicatholic.com/calendar/8408785/reading-oly
 mpics
DTSTART:20260423T210000Z
DTEND:20260424T000000Z
END:VEVENT
END:VCALENDAR
