BEGIN:VCALENDAR
VERSION:2.0
PRODID:SchoolNow
CALSCALE:GREGORIAN
BEGIN:VEVENT
UID:59c67666-5f57-11f0-95d7-0a58a9feac02
DTSTAMP:20250712T193522Z
SUMMARY:Confirmation - St. Stanislaus
URL;VALUE=URI:https://www.materdeicatholic.com/calendar/8408784/confirmatio
 n-st-stanislaus
DTSTART:20260422T203000Z
DTEND:20260422T220000Z
END:VEVENT
END:VCALENDAR
