BEGIN:VCALENDAR
VERSION:2.0
PRODID:SchoolNow
CALSCALE:GREGORIAN
BEGIN:VEVENT
UID:4143b324-5f57-11f0-9505-0a58a9feac02
DTSTAMP:20250712T193441Z
SUMMARY:Grandparents Day - PreK 3\, PreK 4\, Kindergarten
URL;VALUE=URI:https://www.materdeicatholic.com/calendar/8408783/grandparent
 s-day-prek-3-prek-4-kindergarten
DTSTART:20260422T140000Z
DTEND:20260422T153000Z
END:VEVENT
END:VCALENDAR
